BEGIN:VCALENDAR
VERSION:2.0
PRODID:-//Alberta Roofing Contractors Association - ECPv6.15.17.1//NONSGML v1.0//EN
CALSCALE:GREGORIAN
METHOD:PUBLISH
X-WR-CALNAME:Alberta Roofing Contractors Association
X-ORIGINAL-URL:https://arcaonline.ca
X-WR-CALDESC:Events for Alberta Roofing Contractors Association
REFRESH-INTERVAL;VALUE=DURATION:PT1H
X-Robots-Tag:noindex
X-PUBLISHED-TTL:PT1H
BEGIN:VTIMEZONE
TZID:UTC
BEGIN:STANDARD
TZOFFSETFROM:+0000
TZOFFSETTO:+0000
TZNAME:UTC
DTSTART:20250101T000000
END:STANDARD
END:VTIMEZONE
BEGIN:VEVENT
DTSTART;TZID=UTC:20260107T083000
DTEND;TZID=UTC:20260107T163000
DTSTAMP:20260420T171541
CREATED:20251021T192602Z
LAST-MODIFIED:20251222T185818Z
UID:245000-1767774600-1767803400@arcaonline.ca
SUMMARY:Class 103 - First Aid for Roofers *Recert* - S9 - Edmonton - FULL
DESCRIPTION:Red Cross full certification\nRed Cross re-certification\n\nThis program has been customized for roofers while still providing the full Red Cross certification. \n\n\nCourse Fee: \n\n\n\ncovered by ARCA\nno-shows are charged $100 – 140 per person\n\n\n\n\n\nSession Length: \n\n\n\n2 full days for certification\n1 full day for re-certification\n\nInterested in attending the course? Email info@arcaonline.ca to sign up.
URL:https://arcaonline.ca/event/class-103-first-aid-for-roofers-recert-s8-edmonton-limited-spots/
LOCATION:ARCA – Edmonton\, 17403 - 108 Avenue\, Edmonton\, Alberta\, T5S 1G2\, Canada
CATEGORIES:First Aid for Roofers
ATTACH;FMTTYPE=image/webp:https://arcaonline.ca/wp-content/uploads/2023/09/arca-courses-directories-individual-btn-first-aid.webp
ORGANIZER;CN="ARCA":MAILTO:info@arcaonline.ca
END:VEVENT
BEGIN:VEVENT
DTSTART;TZID=UTC:20260107T083000
DTEND;TZID=UTC:20260107T163000
DTSTAMP:20260420T171542
CREATED:20251128T150526Z
LAST-MODIFIED:20251128T150539Z
UID:245113-1767774600-1767803400@arcaonline.ca
SUMMARY:Class 103 - First Aid for Roofers *Recert* - S10 - Calgary
DESCRIPTION:Red Cross full certification\nRed Cross re-certification\n\nThis program has been customized for roofers while still providing the full Red Cross certification. \n\n\nCourse Fee: \n\n\n\ncovered by ARCA\nno-shows are charged $100 – 140 per person\n\n\n\n\n\nSession Length: \n\n\n\n2 full days for certification\n1 full day for re-certification\n\nInterested in attending the course? Email info@arcaonline.ca to sign up.
URL:https://arcaonline.ca/event/class-103-first-aid-for-roofers-recert-s10-calgary/
LOCATION:ARCA Head Office – Calgary\, 2380 Pegasus Rd NE\, Calgary\, Alberta\, T2E 8G8\, Canada
CATEGORIES:First Aid for Roofers
ATTACH;FMTTYPE=image/webp:https://arcaonline.ca/wp-content/uploads/2023/09/arca-courses-directories-individual-btn-first-aid.webp
ORGANIZER;CN="ARCA":MAILTO:info@arcaonline.ca
END:VEVENT
END:VCALENDAR