BEGIN:VCALENDAR
VERSION:2.0
PRODID:-//Alberta Roofing Contractors Association - ECPv6.15.17.1//NONSGML v1.0//EN
CALSCALE:GREGORIAN
METHOD:PUBLISH
X-ORIGINAL-URL:https://arcaonline.ca
X-WR-CALDESC:Events for Alberta Roofing Contractors Association
REFRESH-INTERVAL;VALUE=DURATION:PT1H
X-Robots-Tag:noindex
X-PUBLISHED-TTL:PT1H
BEGIN:VTIMEZONE
TZID:UTC
BEGIN:STANDARD
TZOFFSETFROM:+0000
TZOFFSETTO:+0000
TZNAME:UTC
DTSTART:20250101T000000
END:STANDARD
END:VTIMEZONE
BEGIN:VEVENT
DTSTART;TZID=UTC:20260203T083000
DTEND;TZID=UTC:20260204T163000
DTSTAMP:20260420T162252
CREATED:20251010T140346Z
LAST-MODIFIED:20251201T195650Z
UID:244920-1770107400-1770222600@arcaonline.ca
SUMMARY:Class 103 - First Aid for Roofers - S5 - Calgary - LIMITED SPOTS!
DESCRIPTION:Red Cross full certification\nRed Cross re-certification\n\nThis program has been customized for roofers while still providing the full Red Cross certification. \n\n\nCourse Fee: \n\n\n\ncovered by ARCA\nno-shows are charged $100 – 140 per person\n\n\n\n\n\nSession Length: \n\n\n\n2 full days for certification\n1 full day for re-certification\n\nInterested in attending the course? Email info@arcaonline.ca to sign up.
URL:https://arcaonline.ca/event/class-103-first-aid-for-roofers-s5-calgary/
LOCATION:ARCA Head Office – Calgary\, 2380 Pegasus Rd NE\, Calgary\, Alberta\, T2E 8G8\, Canada
CATEGORIES:First Aid for Roofers
ATTACH;FMTTYPE=image/webp:https://arcaonline.ca/wp-content/uploads/2023/09/arca-courses-directories-individual-btn-first-aid.webp
ORGANIZER;CN="ARCA":MAILTO:info@arcaonline.ca
END:VEVENT
END:VCALENDAR